BEGIN:VCALENDAR
VERSION:2.0
PRODID:-//Michael Favala Goldman - ECPv6.15.20//NONSGML v1.0//EN
CALSCALE:GREGORIAN
METHOD:PUBLISH
X-WR-CALNAME:Michael Favala Goldman
X-ORIGINAL-URL:https://michaelfavalagoldman.com
X-WR-CALDESC:Events for Michael Favala Goldman
REFRESH-INTERVAL;VALUE=DURATION:PT1H
X-Robots-Tag:noindex
X-PUBLISHED-TTL:PT1H
BEGIN:VTIMEZONE
TZID:America/New_York
BEGIN:DAYLIGHT
TZOFFSETFROM:-0500
TZOFFSETTO:-0400
TZNAME:EDT
DTSTART:19690427T070000
END:DAYLIGHT
BEGIN:STANDARD
TZOFFSETFROM:-0400
TZOFFSETTO:-0500
TZNAME:EST
DTSTART:19691026T060000
END:STANDARD
BEGIN:DAYLIGHT
TZOFFSETFROM:-0500
TZOFFSETTO:-0400
TZNAME:EDT
DTSTART:19700426T070000
END:DAYLIGHT
BEGIN:STANDARD
TZOFFSETFROM:-0400
TZOFFSETTO:-0500
TZNAME:EST
DTSTART:19701025T060000
END:STANDARD
BEGIN:DAYLIGHT
TZOFFSETFROM:-0500
TZOFFSETTO:-0400
TZNAME:EDT
DTSTART:19710425T070000
END:DAYLIGHT
BEGIN:STANDARD
TZOFFSETFROM:-0400
TZOFFSETTO:-0500
TZNAME:EST
DTSTART:19711031T060000
END:STANDARD
END:VTIMEZONE
BEGIN:VEVENT
DTSTART;TZID=America/New_York:20260423T183628
DTEND;TZID=America/New_York:20260423T183628
DTSTAMP:20260423T183628
CREATED:20180201T141201Z
LAST-MODIFIED:20180201T141201Z
UID:1059-0-0@michaelfavalagoldman.com
SUMMARY:Straw Dogs Poetry Anthology Book Launch
DESCRIPTION:As part of the Easthampton BookFest\, I will be reading at the book launch for a new anthology of local poetry at White Square Books on Cottage Street on April 14\, 2018.
URL:https://michaelfavalagoldman.com/event/straw-dogs-poetry-anthology-book-launch/
LOCATION:White Square Books\, 86 Cottage St.\, Easthampton\, MA\, 01027\, United States
END:VEVENT
END:VCALENDAR